BEGIN:VCALENDAR
VERSION:2.0
PRODID:-//Kasbah Nightclub Coventry - ECPv4.9.5//NONSGML v1.0//EN
CALSCALE:GREGORIAN
METHOD:PUBLISH
X-WR-CALNAME:Kasbah Nightclub Coventry
X-ORIGINAL-URL:https://www.kasbahnightclub.com
X-WR-CALDESC:Events for Kasbah Nightclub Coventry
BEGIN:VTIMEZONE
TZID:"Europe/London"
BEGIN:DAYLIGHT
TZOFFSETFROM:+0000
TZOFFSETTO:+0100
TZNAME:BST
DTSTART:20200329T010000
END:DAYLIGHT
BEGIN:STANDARD
TZOFFSETFROM:+0100
TZOFFSETTO:+0000
TZNAME:GMT
DTSTART:20201025T010000
END:STANDARD
END:VTIMEZONE
BEGIN:VEVENT
DTSTART;TZID="Europe/London":20200215T220000
DTEND;TZID="Europe/London":20200215T220000
DTSTAMP:20260423T100313
CREATED:20200124T122324Z
LAST-MODIFIED:20200124T122324Z
UID:808-1581804000-1581804000@www.kasbahnightclub.com
SUMMARY:WSTRN
DESCRIPTION:London R&B group WSTRN are coming to Coventry on Saturday 15th February 2020. With new music out and a style influenced by reggae\, motown\, hip hop\, R&B and pop music\, this will be a show not to be missed 💯💯 \n£6 adv tickets on sale this Monday 27th Jan at 10am\nhttps://www.skiddle.com/e/13737464/ \n \n  \n* This is show is part of our regular Saturday clubnight. Wstrn will be performing live in the main room for a 20-30 mins set. \n
URL:https://www.kasbahnightclub.com/event/wstrn/
END:VEVENT
END:VCALENDAR