BEGIN:VCALENDAR
VERSION:2.0
PRODID:-//Kasbah Nightclub Coventry - ECPv4.9.5//NONSGML v1.0//EN
CALSCALE:GREGORIAN
METHOD:PUBLISH
X-WR-CALNAME:Kasbah Nightclub Coventry
X-ORIGINAL-URL:https://www.kasbahnightclub.com
X-WR-CALDESC:Events for Kasbah Nightclub Coventry
BEGIN:VTIMEZONE
TZID:"Europe/London"
BEGIN:DAYLIGHT
TZOFFSETFROM:+0000
TZOFFSETTO:+0100
TZNAME:BST
DTSTART:20190331T010000
END:DAYLIGHT
BEGIN:STANDARD
TZOFFSETFROM:+0100
TZOFFSETTO:+0000
TZNAME:GMT
DTSTART:20191027T010000
END:STANDARD
END:VTIMEZONE
BEGIN:VEVENT
DTSTART;TZID="Europe/London":20191129T183000
DTEND;TZID="Europe/London":20191129T220000
DTSTAMP:20260424T133641
CREATED:20190923T160048Z
LAST-MODIFIED:20190923T160048Z
UID:724-1575052200-1575064800@www.kasbahnightclub.com
SUMMARY:WSTR (14+ pre-club show)
DESCRIPTION:Pop punk band WSTR are coming to Coventry on Friday 29th November. Tickets on sale this Friday at 10am\nfrom https://www.surpriseyouredeadmusic.co.uk/ \nFacebook event: https://www.facebook.com/events/2335454163216531/ \nDoors 6:30pm  \n14+ show \n
URL:https://www.kasbahnightclub.com/event/wstr-14-pre-club-show/
END:VEVENT
END:VCALENDAR