BEGIN:VCALENDAR
VERSION:2.0
PRODID:-//Kasbah Nightclub Coventry - ECPv4.9.5//NONSGML v1.0//EN
CALSCALE:GREGORIAN
METHOD:PUBLISH
X-WR-CALNAME:Kasbah Nightclub Coventry
X-ORIGINAL-URL:https://www.kasbahnightclub.com
X-WR-CALDESC:Events for Kasbah Nightclub Coventry
BEGIN:VTIMEZONE
TZID:"Europe/London"
BEGIN:DAYLIGHT
TZOFFSETFROM:+0000
TZOFFSETTO:+0100
TZNAME:BST
DTSTART:20190331T010000
END:DAYLIGHT
BEGIN:STANDARD
TZOFFSETFROM:+0100
TZOFFSETTO:+0000
TZNAME:GMT
DTSTART:20191027T010000
END:STANDARD
END:VTIMEZONE
BEGIN:VEVENT
DTSTART;TZID="Europe/London":20190914T220000
DTEND;TZID="Europe/London":20190914T220000
DTSTAMP:20260424T163544
CREATED:20190726T225449Z
LAST-MODIFIED:20190726T225449Z
UID:649-1568498400-1568498400@www.kasbahnightclub.com
SUMMARY:ULTIMATE COLDPLAY (Tricky Disco - Side room show)
DESCRIPTION:Ultimate Coldplay Performing all the Coldplay hits and more featuring an amazing look and sound a like front man and incredible live band. \nAdvance tickets: https://www.skiddle.com/e/13575987/ \nDoors 10pm // 18+ \n
URL:https://www.kasbahnightclub.com/event/ultimate-coldplay-tricky-disco-side-room-show/
END:VEVENT
END:VCALENDAR