BEGIN:VCALENDAR
VERSION:2.0
PRODID:-//Kasbah Nightclub Coventry - ECPv4.9.5//NONSGML v1.0//EN
CALSCALE:GREGORIAN
METHOD:PUBLISH
X-WR-CALNAME:Kasbah Nightclub Coventry
X-ORIGINAL-URL:https://www.kasbahnightclub.com
X-WR-CALDESC:Events for Kasbah Nightclub Coventry
BEGIN:VTIMEZONE
TZID:"Europe/London"
BEGIN:DAYLIGHT
TZOFFSETFROM:+0000
TZOFFSETTO:+0100
TZNAME:BST
DTSTART:20190331T010000
END:DAYLIGHT
BEGIN:STANDARD
TZOFFSETFROM:+0100
TZOFFSETTO:+0000
TZNAME:GMT
DTSTART:20191027T010000
END:STANDARD
END:VTIMEZONE
BEGIN:VEVENT
DTSTART;TZID="Europe/London":20190420T220000
DTEND;TZID="Europe/London":20190420T220000
DTSTAMP:20260423T231647
CREATED:20190204T171249Z
LAST-MODIFIED:20190204T171249Z
UID:397-1555797600-1555797600@www.kasbahnightclub.com
SUMMARY:TWENTY ONE CO-PILOTS (Tricky Disco)
DESCRIPTION:\nWith an attention to detail that would rival the most seasoned of tribute acts\, a full stage layout including lights\, props and an upright piano\, Twenty Øne Cø-Piløts are a brand new exciting tribute to the grammy award winning duo twenty one pilots. \n\n\nSee them live on Saturday 20th April live in our left wing. Support comes from Shanghai Hostage. \n\n\n \n\n\nAdvance tickets available from https://www.seetickets.com/venue/kasbah/1248\n\n
URL:https://www.kasbahnightclub.com/event/twenty-one-co-pilots-tricky-disco/
END:VEVENT
END:VCALENDAR