BEGIN:VCALENDAR
VERSION:2.0
PRODID:-//Kasbah Nightclub Coventry - ECPv4.9.5//NONSGML v1.0//EN
CALSCALE:GREGORIAN
METHOD:PUBLISH
X-WR-CALNAME:Kasbah Nightclub Coventry
X-ORIGINAL-URL:https://www.kasbahnightclub.com
X-WR-CALDESC:Events for Kasbah Nightclub Coventry
BEGIN:VTIMEZONE
TZID:"Europe/London"
BEGIN:DAYLIGHT
TZOFFSETFROM:+0000
TZOFFSETTO:+0100
TZNAME:BST
DTSTART:20190331T010000
END:DAYLIGHT
BEGIN:STANDARD
TZOFFSETFROM:+0100
TZOFFSETTO:+0000
TZNAME:GMT
DTSTART:20191027T010000
END:STANDARD
END:VTIMEZONE
BEGIN:VEVENT
DTSTART;TZID="Europe/London":20191116T220000
DTEND;TZID="Europe/London":20191116T220000
DTSTAMP:20260424T133331
CREATED:20190712T131405Z
LAST-MODIFIED:20190712T131405Z
UID:621-1573941600-1573941600@www.kasbahnightclub.com
SUMMARY:TULISA (Tricky Disco)
DESCRIPTION:Tulisa will be performing live at Kasbah On Saturday 16th November 💃💃 \nCamden-born Tulisa scored three platinum albums as part of British hip-hop trio N-Dubz\, became a household name when Simon Cowell hired her as an X Factor judge\, mentored Little Mix to victory in her first series and reached Number One with her Ibiza-ready solo single ‘Young’ \nTricky Disco presents Tulisa at Kasbah: Lineups\, directions and info \n
URL:https://www.kasbahnightclub.com/event/tulisa-tricky-disco/
END:VEVENT
END:VCALENDAR