BEGIN:VCALENDAR
VERSION:2.0
PRODID:-//Kasbah Nightclub Coventry - ECPv4.9.5//NONSGML v1.0//EN
CALSCALE:GREGORIAN
METHOD:PUBLISH
X-WR-CALNAME:Kasbah Nightclub Coventry
X-ORIGINAL-URL:https://www.kasbahnightclub.com
X-WR-CALDESC:Events for Kasbah Nightclub Coventry
BEGIN:VTIMEZONE
TZID:"Europe/London"
BEGIN:DAYLIGHT
TZOFFSETFROM:+0000
TZOFFSETTO:+0100
TZNAME:BST
DTSTART:20200329T010000
END:DAYLIGHT
BEGIN:STANDARD
TZOFFSETFROM:+0100
TZOFFSETTO:+0000
TZNAME:GMT
DTSTART:20201025T010000
END:STANDARD
END:VTIMEZONE
BEGIN:VEVENT
DTSTART;TZID="Europe/London":20200210T220000
DTEND;TZID="Europe/London":20200210T220000
DTSTAMP:20260423T114915
CREATED:20200208T214053Z
LAST-MODIFIED:20200208T214053Z
UID:830-1581372000-1581372000@www.kasbahnightclub.com
SUMMARY:TRAFFIC LIGHT PARTY (Bubbleluv)
DESCRIPTION:Join us this Monday for our legendary traffic light party and bag yourself a date in time for Valentines 🚦😍 \nStickers provided on the night and did we mention J-Bombs are just £1❗️ \nCoventry and Warwick’s biggest night – Every Monday!\nDoors 10pm/Admission £5 \nNo Advance tickets\, everyone is paying on the door \n\nDon’t forget to grab a queue jump pass from Ivy House every Monday from 9pm to skip the queues. \n\n
URL:https://www.kasbahnightclub.com/event/traffic-light-party-bubbleluv/
END:VEVENT
END:VCALENDAR