BEGIN:VCALENDAR
VERSION:2.0
PRODID:-//Kasbah Nightclub Coventry - ECPv4.9.5//NONSGML v1.0//EN
CALSCALE:GREGORIAN
METHOD:PUBLISH
X-WR-CALNAME:Kasbah Nightclub Coventry
X-ORIGINAL-URL:https://www.kasbahnightclub.com
X-WR-CALDESC:Events for Kasbah Nightclub Coventry
BEGIN:VTIMEZONE
TZID:"Europe/London"
BEGIN:DAYLIGHT
TZOFFSETFROM:+0000
TZOFFSETTO:+0100
TZNAME:BST
DTSTART:20250330T010000
END:DAYLIGHT
BEGIN:STANDARD
TZOFFSETFROM:+0100
TZOFFSETTO:+0000
TZNAME:GMT
DTSTART:20251026T010000
END:STANDARD
END:VTIMEZONE
BEGIN:VEVENT
DTSTART;TZID="Europe/London":20250322T190000
DTEND;TZID="Europe/London":20250322T223000
DTSTAMP:20260420T154136
CREATED:20240909T124316Z
LAST-MODIFIED:20250220T125149Z
UID:1587-1742670000-1742682600@www.kasbahnightclub.com
SUMMARY:The Rifles (Pre-club show)
DESCRIPTION:\n\n\n\nDue to an illness within the band\, the shows this weekend have had to be rescheduled for Norwich 21st Feb and Coventry 22nd Feb. \n\n\nThe new dates are Norwich 21st March & Coventry 22nd March. All tickets remain valid. \n\n\n\n\n\n\n\n\n\nIt’s been over seven years since The Rifles released their previous record\, but now the east Londoners are set to return with their new album and a new tour.\n\n\n\nThey are back in Coventry on Saturday 22nd March.\n\n\n\nTickets on sale : https://www.skiddle.com/whats-on/Coventry/Kasbah/The-Rifles/40029127/?preview=081ad98125\n\n\n\n
URL:https://www.kasbahnightclub.com/event/the-rifles-pre-club-show/
END:VEVENT
END:VCALENDAR