BEGIN:VCALENDAR
VERSION:2.0
PRODID:-//Kasbah Nightclub Coventry - ECPv4.9.5//NONSGML v1.0//EN
CALSCALE:GREGORIAN
METHOD:PUBLISH
X-WR-CALNAME:Kasbah Nightclub Coventry
X-ORIGINAL-URL:https://www.kasbahnightclub.com
X-WR-CALDESC:Events for Kasbah Nightclub Coventry
BEGIN:VTIMEZONE
TZID:"Europe/London"
BEGIN:DAYLIGHT
TZOFFSETFROM:+0000
TZOFFSETTO:+0100
TZNAME:BST
DTSTART:20220327T010000
END:DAYLIGHT
BEGIN:STANDARD
TZOFFSETFROM:+0100
TZOFFSETTO:+0000
TZNAME:GMT
DTSTART:20221030T010000
END:STANDARD
END:VTIMEZONE
BEGIN:VEVENT
DTSTART;TZID="Europe/London":20221118T183000
DTEND;TZID="Europe/London":20221118T220000
DTSTAMP:20260422T141809
CREATED:20220411T120949Z
LAST-MODIFIED:20220930T154110Z
UID:1105-1668796200-1668808800@www.kasbahnightclub.com
SUMMARY:The Reytons (Pre-club show)
DESCRIPTION:Doncaster’s new indie rockers are coming to Coventry on Friday 18th November \nDoors 6:30pm // 14+ \nTicket link: https://www.fatsoma.com/e/8edhnwi7/the-reytons \n \n
URL:https://www.kasbahnightclub.com/event/the-reytons-pre-club-show/
END:VEVENT
END:VCALENDAR