BEGIN:VCALENDAR
VERSION:2.0
PRODID:-//Kasbah Nightclub Coventry - ECPv4.9.5//NONSGML v1.0//EN
CALSCALE:GREGORIAN
METHOD:PUBLISH
X-WR-CALNAME:Kasbah Nightclub Coventry
X-ORIGINAL-URL:https://www.kasbahnightclub.com
X-WR-CALDESC:Events for Kasbah Nightclub Coventry
BEGIN:VTIMEZONE
TZID:"Europe/London"
BEGIN:DAYLIGHT
TZOFFSETFROM:+0000
TZOFFSETTO:+0100
TZNAME:BST
DTSTART:20190331T010000
END:DAYLIGHT
BEGIN:STANDARD
TZOFFSETFROM:+0100
TZOFFSETTO:+0000
TZNAME:GMT
DTSTART:20191027T010000
END:STANDARD
END:VTIMEZONE
BEGIN:VEVENT
DTSTART;TZID="Europe/London":20190405T220000
DTEND;TZID="Europe/London":20190405T220000
DTSTAMP:20260423T145026
CREATED:20181203T133602Z
LAST-MODIFIED:20181203T133602Z
UID:287-1554501600-1554501600@www.kasbahnightclub.com
SUMMARY:THE LOUNGE KITTENS (Kinky - Left wing show)
DESCRIPTION:Hot on the heels of their latest PledgeMusic campaign hitting its target in only 24 hours\, The Lounge Kittens announce touring plans for the UK in March & April 2019. To celebrate the launch of their new mini-album ‘Have Another…’ the girls will be hocking their alt-wares up and down the country including a night in Coventry. \nDoors 10pm // Admission £5 \nAdvance tickets: http://myticket.co.uk/gigs/the-lounge-kittens-coventry-2019-04-05-19-00 \n
URL:https://www.kasbahnightclub.com/event/the-lounge-kittens-kinky-left-wing-show/
END:VEVENT
END:VCALENDAR