BEGIN:VCALENDAR
VERSION:2.0
PRODID:-//Kasbah Nightclub Coventry - ECPv4.9.5//NONSGML v1.0//EN
CALSCALE:GREGORIAN
METHOD:PUBLISH
X-WR-CALNAME:Kasbah Nightclub Coventry
X-ORIGINAL-URL:https://www.kasbahnightclub.com
X-WR-CALDESC:Events for Kasbah Nightclub Coventry
BEGIN:VTIMEZONE
TZID:"Europe/London"
BEGIN:DAYLIGHT
TZOFFSETFROM:+0000
TZOFFSETTO:+0100
TZNAME:BST
DTSTART:20240331T010000
END:DAYLIGHT
BEGIN:STANDARD
TZOFFSETFROM:+0100
TZOFFSETTO:+0000
TZNAME:GMT
DTSTART:20241027T010000
END:STANDARD
END:VTIMEZONE
BEGIN:VEVENT
DTSTART;TZID="Europe/London":20240328T190000
DTEND;TZID="Europe/London":20240328T223000
DTSTAMP:20260422T091039
CREATED:20240209T154233Z
LAST-MODIFIED:20240209T155452Z
UID:1472-1711652400-1711665000@www.kasbahnightclub.com
SUMMARY:The Lottery Winners
DESCRIPTION:\n\nThe Lottery Winners are coming to Coventry on Thursday 28th March 2024.\n\nThis year has been a fantastic year for Lottery Winners\, with the release of the UK Number 1 album ‘Anxiety Replacement Therapy’. Their unrivalled and astoundingly energetic live shows have already secured the band a plethora of main stage slots at the biggest festivals\, two massive headline tours\, support tours with the mighty Frank Turner and Kaiser Chiefs\n\n\n\nTickets on sale from https://www.ticketweb.uk/…/lottery-winners…/13327613\n\n\n\nDoors 7pm // 14+ show\n\n\n\n
URL:https://www.kasbahnightclub.com/event/the-lottery-winners/
END:VEVENT
END:VCALENDAR