BEGIN:VCALENDAR
VERSION:2.0
PRODID:-//Kasbah Nightclub Coventry - ECPv4.9.5//NONSGML v1.0//EN
CALSCALE:GREGORIAN
METHOD:PUBLISH
X-WR-CALNAME:Kasbah Nightclub Coventry
X-ORIGINAL-URL:https://www.kasbahnightclub.com
X-WR-CALDESC:Events for Kasbah Nightclub Coventry
BEGIN:VTIMEZONE
TZID:"Europe/London"
BEGIN:DAYLIGHT
TZOFFSETFROM:+0000
TZOFFSETTO:+0100
TZNAME:BST
DTSTART:20230326T010000
END:DAYLIGHT
BEGIN:STANDARD
TZOFFSETFROM:+0100
TZOFFSETTO:+0000
TZNAME:GMT
DTSTART:20231029T010000
END:STANDARD
END:VTIMEZONE
BEGIN:VEVENT
DTSTART;TZID="Europe/London":20230325T210000
DTEND;TZID="Europe/London":20230325T210000
DTSTAMP:20260422T135757
CREATED:20230316T152142Z
LAST-MODIFIED:20230316T152142Z
UID:1337-1679778000-1679778000@www.kasbahnightclub.com
SUMMARY:The Blink 182 Show + Warning - A Tribute to Greenday
DESCRIPTION:\nThe Blink 182 Show the ultimate tribute to Blink 182 are coming to Coventry on Saturday 25th March along with Warning – a tribute to Greenday.\nMassive Pop Punk hits all night long!\n\n\n\nDoors 9pm\n\nTickets on sale now from https://skiddle.com/e/36278830\n\n\n\nThis show is part of our Saturday clubnight and it takes place in our Indie Room\n\n
URL:https://www.kasbahnightclub.com/event/the-blink-182-show-warning-a-tribute-to-greenday/
END:VEVENT
END:VCALENDAR