BEGIN:VCALENDAR
VERSION:2.0
PRODID:-//Kasbah Nightclub Coventry - ECPv4.9.5//NONSGML v1.0//EN
CALSCALE:GREGORIAN
METHOD:PUBLISH
X-WR-CALNAME:Kasbah Nightclub Coventry
X-ORIGINAL-URL:https://www.kasbahnightclub.com
X-WR-CALDESC:Events for Kasbah Nightclub Coventry
BEGIN:VTIMEZONE
TZID:"Europe/London"
BEGIN:DAYLIGHT
TZOFFSETFROM:+0000
TZOFFSETTO:+0100
TZNAME:BST
DTSTART:20230326T010000
END:DAYLIGHT
BEGIN:STANDARD
TZOFFSETFROM:+0100
TZOFFSETTO:+0000
TZNAME:GMT
DTSTART:20231029T010000
END:STANDARD
END:VTIMEZONE
BEGIN:VEVENT
DTSTART;TZID="Europe/London":20231014T150000
DTEND;TZID="Europe/London":20231014T220000
DTSTAMP:20260420T203321
CREATED:20230824T113249Z
LAST-MODIFIED:20230824T113249Z
UID:1394-1697295600-1697320800@www.kasbahnightclub.com
SUMMARY:Subfocus & Dimension (Day Sessions)
DESCRIPTION:  \n\nSUB FOCUS + DIMENSION\nDAY SESSIONS\nSATURDAY 14TH OCTOBER\n\n\n\nOne of the leading names on the Drum & Bass scene\, Sub Focus will be returning to Kasbah for a massive Day Sessions line up on Saturday 14th October 2023 along with one of the UK’s most unique electronic music artists Dimension\n\n\n\nTickets already flying out for this huge double headliner event\, don’t miss out   https://www.skiddle.com/e/36381435/\n\n\n
URL:https://www.kasbahnightclub.com/event/subfocus-dimension-day-sessions/
END:VEVENT
END:VCALENDAR