BEGIN:VCALENDAR
VERSION:2.0
PRODID:-//Kasbah Nightclub Coventry - ECPv4.9.5//NONSGML v1.0//EN
CALSCALE:GREGORIAN
METHOD:PUBLISH
X-WR-CALNAME:Kasbah Nightclub Coventry
X-ORIGINAL-URL:https://www.kasbahnightclub.com
X-WR-CALDESC:Events for Kasbah Nightclub Coventry
BEGIN:VTIMEZONE
TZID:"Europe/London"
BEGIN:DAYLIGHT
TZOFFSETFROM:+0000
TZOFFSETTO:+0100
TZNAME:BST
DTSTART:20220327T010000
END:DAYLIGHT
BEGIN:STANDARD
TZOFFSETFROM:+0100
TZOFFSETTO:+0000
TZNAME:GMT
DTSTART:20221030T010000
END:STANDARD
END:VTIMEZONE
BEGIN:VEVENT
DTSTART;TZID="Europe/London":20221226T220000
DTEND;TZID="Europe/London":20221226T220000
DTSTAMP:20260422T122105
CREATED:20221130T164746Z
LAST-MODIFIED:20221130T164746Z
UID:1280-1672092000-1672092000@www.kasbahnightclub.com
SUMMARY:Solardo - Boxing Day
DESCRIPTION:\nBOXING NIGHT SPECIAL\n\n\n\n FIRST HEADLINER ANNOUNCED \n\n\n\nWe’re back with another huge Boxing Night line up this Christmas with tech house heavyweights Solardo headlining the main room  Hailed as one of the biggest acts in dance music\, the unstoppable duo are best known for their emphatic performances and highly charged productions \n\n\nMore acts to be announced \n\n\n\nTickets on sale from https://www.skiddle.com/e/36232977/\n\n\n\n
URL:https://www.kasbahnightclub.com/event/solardo-boxing-day/
END:VEVENT
END:VCALENDAR