BEGIN:VCALENDAR
VERSION:2.0
PRODID:-//Kasbah Nightclub Coventry - ECPv4.9.5//NONSGML v1.0//EN
CALSCALE:GREGORIAN
METHOD:PUBLISH
X-WR-CALNAME:Kasbah Nightclub Coventry
X-ORIGINAL-URL:https://www.kasbahnightclub.com
X-WR-CALDESC:Events for Kasbah Nightclub Coventry
BEGIN:VTIMEZONE
TZID:"Europe/London"
BEGIN:DAYLIGHT
TZOFFSETFROM:+0000
TZOFFSETTO:+0100
TZNAME:BST
DTSTART:20230326T010000
END:DAYLIGHT
BEGIN:STANDARD
TZOFFSETFROM:+0100
TZOFFSETTO:+0000
TZNAME:GMT
DTSTART:20231029T010000
END:STANDARD
END:VTIMEZONE
BEGIN:VEVENT
DTSTART;TZID="Europe/London":20230619T220000
DTEND;TZID="Europe/London":20230619T220000
DTSTAMP:20260422T103935
CREATED:20230531T111028Z
LAST-MODIFIED:20230531T111119Z
UID:1349-1687212000-1687212000@www.kasbahnightclub.com
SUMMARY:Shrek Rave
DESCRIPTION:\nShrek is coming to Kasbah\n\n\n Free entry for anyone in Shrek fancy dress\n All the biggest Shrek songs\nShrek & donkey masks\n Shrek themed drinks\n Shrek visuals\n Free gingerbread men\n\n\n\nMonday 19th June\n\nDoors 10pm/Admission £5 – No advance tickets\, pay on the door as normal\n\n\n\n*Free entry until midnight in Shrek fancy dress\n\n
URL:https://www.kasbahnightclub.com/event/shrek-rave/
END:VEVENT
END:VCALENDAR