BEGIN:VCALENDAR
VERSION:2.0
PRODID:-//Kasbah Nightclub Coventry - ECPv4.9.5//NONSGML v1.0//EN
CALSCALE:GREGORIAN
METHOD:PUBLISH
X-WR-CALNAME:Kasbah Nightclub Coventry
X-ORIGINAL-URL:https://www.kasbahnightclub.com
X-WR-CALDESC:Events for Kasbah Nightclub Coventry
BEGIN:VTIMEZONE
TZID:"Europe/London"
BEGIN:DAYLIGHT
TZOFFSETFROM:+0000
TZOFFSETTO:+0100
TZNAME:BST
DTSTART:20210328T010000
END:DAYLIGHT
BEGIN:STANDARD
TZOFFSETFROM:+0100
TZOFFSETTO:+0000
TZNAME:GMT
DTSTART:20211031T010000
END:STANDARD
END:VTIMEZONE
BEGIN:VEVENT
DTSTART;TZID="Europe/London":20211015T220000
DTEND;TZID="Europe/London":20211015T220000
DTSTAMP:20260419T235404
CREATED:20211014T143637Z
LAST-MODIFIED:20211014T143637Z
UID:1047-1634335200-1634335200@www.kasbahnightclub.com
SUMMARY:Sex Toy Treasury Hunt (Kinky Clubnight)
DESCRIPTION:\nOur most loved theme is back  Definitely not one to be missed\n\n\nSEX TOY TREASURE HUNT\n\n\nFind the lucky VK bottles for your chance to win anything from handcuffs to blow up dolls and much\, much worse \n\n\nThis Friday 15th October – No advance tickets\, pay on the door as normal.\n\n\nDoors 10pm/Admission £5\n\n\n 3 rooms of your favourite music\n J BOMBS £1 | DRINKS £1.50\n\n\nCoventry and Warwick’s biggest Friday night\, every week \n\n\n
URL:https://www.kasbahnightclub.com/event/sex-toy-treasury-hunt-kinky-clubnight/
END:VEVENT
END:VCALENDAR