BEGIN:VCALENDAR
VERSION:2.0
PRODID:-//Kasbah Nightclub Coventry - ECPv4.9.5//NONSGML v1.0//EN
CALSCALE:GREGORIAN
METHOD:PUBLISH
X-WR-CALNAME:Kasbah Nightclub Coventry
X-ORIGINAL-URL:https://www.kasbahnightclub.com
X-WR-CALDESC:Events for Kasbah Nightclub Coventry
BEGIN:VTIMEZONE
TZID:"Europe/London"
BEGIN:DAYLIGHT
TZOFFSETFROM:+0000
TZOFFSETTO:+0100
TZNAME:BST
DTSTART:20230326T010000
END:DAYLIGHT
BEGIN:STANDARD
TZOFFSETFROM:+0100
TZOFFSETTO:+0000
TZNAME:GMT
DTSTART:20231029T010000
END:STANDARD
END:VTIMEZONE
BEGIN:VEVENT
DTSTART;TZID="Europe/London":20230929T183000
DTEND;TZID="Europe/London":20230929T220000
DTSTAMP:20260420T204704
CREATED:20230703T150458Z
LAST-MODIFIED:20230703T150458Z
UID:1358-1696012200-1696024800@www.kasbahnightclub.com
SUMMARY:Scam Fender + The Kopycat Killers + Subarctic Monkeys (Pre-Club show)
DESCRIPTION:Scam Fender + The Kopycat Killers + Subarctic Monkeys in a tribute TRIPLE bill\n\nFriday 29th September 2023\n\nDoors 6:30pm // 14+\n\n\n
URL:https://www.kasbahnightclub.com/event/scam-fender-the-kopycat-killers-subarctic-monkeys-pre-club-show/
END:VEVENT
END:VCALENDAR