BEGIN:VCALENDAR
VERSION:2.0
PRODID:-//Kasbah Nightclub Coventry - ECPv4.9.5//NONSGML v1.0//EN
CALSCALE:GREGORIAN
METHOD:PUBLISH
X-WR-CALNAME:Kasbah Nightclub Coventry
X-ORIGINAL-URL:https://www.kasbahnightclub.com
X-WR-CALDESC:Events for Kasbah Nightclub Coventry
BEGIN:VTIMEZONE
TZID:"Europe/London"
BEGIN:DAYLIGHT
TZOFFSETFROM:+0000
TZOFFSETTO:+0100
TZNAME:BST
DTSTART:20190331T010000
END:DAYLIGHT
BEGIN:STANDARD
TZOFFSETFROM:+0100
TZOFFSETTO:+0000
TZNAME:GMT
DTSTART:20191027T010000
END:STANDARD
END:VTIMEZONE
BEGIN:VEVENT
DTSTART;TZID="Europe/London":20190621T220000
DTEND;TZID="Europe/London":20190621T220000
DTSTAMP:20260424T163812
CREATED:20190502T121200Z
LAST-MODIFIED:20190502T121200Z
UID:559-1561154400-1561154400@www.kasbahnightclub.com
SUMMARY:SAM THOMPSON (Meet & Greet - Kinky)
DESCRIPTION:‘Made In Chelsea’ star and ‘Celeb’s Go Dating’ favourite Sam Thompson will be joining us at Kasbah on Friday 21st June 2019 for a meet and greet 😍😍 \nAfter appearing on numerous TV shows the loveable reality star has won the hearts of the nation with his ‘not so serious’ nature 👏 \nDoors 10pm / Admission £5 \n
URL:https://www.kasbahnightclub.com/event/sam-thompson-meet-greet-kinky/
END:VEVENT
END:VCALENDAR