BEGIN:VCALENDAR
VERSION:2.0
PRODID:-//Kasbah Nightclub Coventry - ECPv4.9.5//NONSGML v1.0//EN
CALSCALE:GREGORIAN
METHOD:PUBLISH
X-WR-CALNAME:Kasbah Nightclub Coventry
X-ORIGINAL-URL:https://www.kasbahnightclub.com
X-WR-CALDESC:Events for Kasbah Nightclub Coventry
BEGIN:VTIMEZONE
TZID:"Europe/London"
BEGIN:DAYLIGHT
TZOFFSETFROM:+0000
TZOFFSETTO:+0100
TZNAME:BST
DTSTART:20210328T010000
END:DAYLIGHT
BEGIN:STANDARD
TZOFFSETFROM:+0100
TZOFFSETTO:+0000
TZNAME:GMT
DTSTART:20211031T010000
END:STANDARD
END:VTIMEZONE
BEGIN:VEVENT
DTSTART;TZID="Europe/London":20210812T190000
DTEND;TZID="Europe/London":20210812T223000
DTSTAMP:20260422T205653
CREATED:20210726T142340Z
LAST-MODIFIED:20210726T142340Z
UID:983-1628794800-1628807400@www.kasbahnightclub.com
SUMMARY:Richard Hawley
DESCRIPTION:Richard Hawley has announced a trio of new UK warm-up shows including Kasbah on Thursday 12th August.\nHawley found success as a member of Britpop band Longpigs in the 1990s and he later joined Pulp for a short time. \nThe shows will be in support of his 2019 album ‘Further’. Tickets are available from https://www.seetickets.com/event/richard-hawley/kasbah/1985110 \n
URL:https://www.kasbahnightclub.com/event/richard-hawley/
END:VEVENT
END:VCALENDAR