BEGIN:VCALENDAR
VERSION:2.0
PRODID:-//Kasbah Nightclub Coventry - ECPv4.9.5//NONSGML v1.0//EN
CALSCALE:GREGORIAN
METHOD:PUBLISH
X-WR-CALNAME:Kasbah Nightclub Coventry
X-ORIGINAL-URL:https://www.kasbahnightclub.com
X-WR-CALDESC:Events for Kasbah Nightclub Coventry
BEGIN:VTIMEZONE
TZID:"Europe/London"
BEGIN:DAYLIGHT
TZOFFSETFROM:+0000
TZOFFSETTO:+0100
TZNAME:BST
DTSTART:20210328T010000
END:DAYLIGHT
BEGIN:STANDARD
TZOFFSETFROM:+0100
TZOFFSETTO:+0000
TZNAME:GMT
DTSTART:20211031T010000
END:STANDARD
END:VTIMEZONE
BEGIN:VEVENT
DTSTART;TZID="Europe/London":20210829T150000
DTEND;TZID="Europe/London":20210829T220000
DTSTAMP:20260424T084901
CREATED:20210804T150956Z
LAST-MODIFIED:20210820T115419Z
UID:989-1630249200-1630274400@www.kasbahnightclub.com
SUMMARY:Replic8 Daytime Tribute Festival (Cancelled)
DESCRIPTION:This event is now cancelled \nThe event will take place at some point in the new year \n
URL:https://www.kasbahnightclub.com/event/replic8-daytime-tribute-festival/
END:VEVENT
END:VCALENDAR