BEGIN:VCALENDAR
VERSION:2.0
PRODID:-//Kasbah Nightclub Coventry - ECPv4.9.5//NONSGML v1.0//EN
CALSCALE:GREGORIAN
METHOD:PUBLISH
X-WR-CALNAME:Kasbah Nightclub Coventry
X-ORIGINAL-URL:https://www.kasbahnightclub.com
X-WR-CALDESC:Events for Kasbah Nightclub Coventry
BEGIN:VTIMEZONE
TZID:"Europe/London"
BEGIN:DAYLIGHT
TZOFFSETFROM:+0000
TZOFFSETTO:+0100
TZNAME:BST
DTSTART:20210328T010000
END:DAYLIGHT
BEGIN:STANDARD
TZOFFSETFROM:+0100
TZOFFSETTO:+0000
TZNAME:GMT
DTSTART:20211031T010000
END:STANDARD
END:VTIMEZONE
BEGIN:VEVENT
DTSTART;TZID="Europe/London":20210829T150000
DTEND;TZID="Europe/London":20210829T230000
DTSTAMP:20260422T205919
CREATED:20210802T143727Z
LAST-MODIFIED:20210802T143727Z
UID:985-1630249200-1630278000@www.kasbahnightclub.com
SUMMARY:Replic8 Daytime Music Festival
DESCRIPTION:8 ACTS❗\n4 ROOMS❗\n2 FLOORS❗\n1 INCREDIBLE VENUE 🔥💯💥 \nDAYTIME MUSIC FESTIVAL\nSunday 29th August 3-11pm \nBRINGING TOGETHER THE FINEST TRIBUTE ACTS FROM ACROSS THE UK 🎤🎶 \nLINE UP ⬇️\nABBA\nADELE\nARCTIC MONKEYS\nARIANA GRANDE\nBRITNEY SPEARS\nMUMFORDS & SONS\nQUEEN\nSPICE GIRLS \n£8 advance tickets on sale tomorrow 10am from https://www.skiddle.com/e/35868951/ \n
URL:https://www.kasbahnightclub.com/event/replic8-daytime-music-festival/
END:VEVENT
END:VCALENDAR