BEGIN:VCALENDAR
VERSION:2.0
PRODID:-//Kasbah Nightclub Coventry - ECPv4.9.5//NONSGML v1.0//EN
CALSCALE:GREGORIAN
METHOD:PUBLISH
X-WR-CALNAME:Kasbah Nightclub Coventry
X-ORIGINAL-URL:https://www.kasbahnightclub.com
X-WR-CALDESC:Events for Kasbah Nightclub Coventry
BEGIN:VTIMEZONE
TZID:"Europe/London"
BEGIN:DAYLIGHT
TZOFFSETFROM:+0000
TZOFFSETTO:+0100
TZNAME:BST
DTSTART:20190331T010000
END:DAYLIGHT
BEGIN:STANDARD
TZOFFSETFROM:+0100
TZOFFSETTO:+0000
TZNAME:GMT
DTSTART:20191027T010000
END:STANDARD
END:VTIMEZONE
BEGIN:VEVENT
DTSTART;TZID="Europe/London":20190202T220000
DTEND;TZID="Europe/London":20190202T220000
DTSTAMP:20260424T124755
CREATED:20190108T155314Z
LAST-MODIFIED:20190124T153223Z
UID:331-1549144800-1549144800@www.kasbahnightclub.com
SUMMARY:REDLIGHT (Tricky Disco)
DESCRIPTION:DJ and Dance Music Producer Redlight will be bringing his House/Garage & Experimental vibes to Kasbah on Saturday 2nd February 2019. \nBest known for his songs such as “Get Out My Head” & “Lost In Your Love” the Bristol based DJ’s career has spanned over a decade\, having spent 12 years grafting on the underground as well as playing events/festivals all over the world. \nhttps://www.youtube.com/watch?v=4AqbLGHqsTg&list=PLBPmCkO1UsifjXSj2pBioFsil1kMKfFUs \nhttps://www.facebook.com/ThisIsRedlight/videos/286255818681689/ \nDoors 10pm / Admission £6 all night \nhttps://www.seetickets.com/event/redlight/kasbah-coventry/1308181 \n
URL:https://www.kasbahnightclub.com/event/redlight-tricky-disco/
END:VEVENT
END:VCALENDAR