BEGIN:VCALENDAR
VERSION:2.0
PRODID:-//Kasbah Nightclub Coventry - ECPv4.9.5//NONSGML v1.0//EN
CALSCALE:GREGORIAN
METHOD:PUBLISH
X-WR-CALNAME:Kasbah Nightclub Coventry
X-ORIGINAL-URL:https://www.kasbahnightclub.com
X-WR-CALDESC:Events for Kasbah Nightclub Coventry
BEGIN:VTIMEZONE
TZID:"Europe/London"
BEGIN:DAYLIGHT
TZOFFSETFROM:+0000
TZOFFSETTO:+0100
TZNAME:BST
DTSTART:20190331T010000
END:DAYLIGHT
BEGIN:STANDARD
TZOFFSETFROM:+0100
TZOFFSETTO:+0000
TZNAME:GMT
DTSTART:20191027T010000
END:STANDARD
END:VTIMEZONE
BEGIN:VEVENT
DTSTART;TZID="Europe/London":20191026T220000
DTEND;TZID="Europe/London":20191026T220000
DTSTAMP:20260424T133600
CREATED:20190801T142323Z
LAST-MODIFIED:20190906T144045Z
UID:662-1572127200-1572127200@www.kasbahnightclub.com
SUMMARY:Quadrophenia Night (Room 2 show)
DESCRIPTION:QUADROPHENIA LIVE CLUB NIGHT \nClub night theme & tribute to the iconic movie! \nDoors 10pm // Admission £6 \nLive music from WHOS NEXT (playing the hits from the film including Green onions\, Louie Louie\, Da Doo Ron Ron. Zoot suit\, Bellboy\, My generation + many more)+ DJ DREW STANSALL (ex THE SPECIALS/PRINCE BUSTER) spinning the best in Mod\, Ska\, Soul\, R&B + 2tone. + MOD FILM SHOW \nThis show is part of a clubnight and it takes place in our side room. Free entry to the clubnight afterwards \nquadrophenia night at Kasbah: Lineups\, directions and info \n
URL:https://www.kasbahnightclub.com/event/quadrophenia-night-tricky-disco-side-room-show/
END:VEVENT
END:VCALENDAR