BEGIN:VCALENDAR
VERSION:2.0
PRODID:-//Kasbah Nightclub Coventry - ECPv4.9.5//NONSGML v1.0//EN
CALSCALE:GREGORIAN
METHOD:PUBLISH
X-WR-CALNAME:Kasbah Nightclub Coventry
X-ORIGINAL-URL:https://www.kasbahnightclub.com
X-WR-CALDESC:Events for Kasbah Nightclub Coventry
BEGIN:VTIMEZONE
TZID:"Europe/London"
BEGIN:DAYLIGHT
TZOFFSETFROM:+0000
TZOFFSETTO:+0100
TZNAME:BST
DTSTART:20190331T010000
END:DAYLIGHT
BEGIN:STANDARD
TZOFFSETFROM:+0100
TZOFFSETTO:+0000
TZNAME:GMT
DTSTART:20191027T010000
END:STANDARD
END:VTIMEZONE
BEGIN:VEVENT
DTSTART;TZID="Europe/London":20190917T220000
DTEND;TZID="Europe/London":20190917T220000
DTSTAMP:20260424T151914
CREATED:20190719T081849Z
LAST-MODIFIED:20190719T081849Z
UID:633-1568757600-1568757600@www.kasbahnightclub.com
SUMMARY:PROJECT X
DESCRIPTION:The Project X Iluv Freshers Festival is coming to Kasbah! We’ll be throwing the most INSANE party of Coventry Freshers 2019! Ever wanted to go to a Party like the one from Project X? Now is your chance! \nThe Project X Iluv Freshers Festival is coming to Kasbah! We’ll be throwing the most INSANE party of Coventry Freshers 2019! Ever wanted to go to a Party like the one from Project X? Now is your chance! 2000 students in 1 venue => 3 rooms with an Outside Terrace => 2 floors \nExpect: \nRed Cups 🔴 Free Sweets 🍭 Confetti Shots 🎉 \n& much more! \nRoom 1: Club Anthems / International music & Pop classics \nRoom 2: Latin & Reggaeton \nRoom 3: K Pop & Commercial \nGet your individual tickets here => http://bit.ly/CovProjectXFFTix \n  \n
URL:https://www.kasbahnightclub.com/event/project-x/
END:VEVENT
END:VCALENDAR