BEGIN:VCALENDAR
VERSION:2.0
PRODID:-//Kasbah Nightclub Coventry - ECPv4.9.5//NONSGML v1.0//EN
CALSCALE:GREGORIAN
METHOD:PUBLISH
X-WR-CALNAME:Kasbah Nightclub Coventry
X-ORIGINAL-URL:https://www.kasbahnightclub.com
X-WR-CALDESC:Events for Kasbah Nightclub Coventry
BEGIN:VTIMEZONE
TZID:"Europe/London"
BEGIN:DAYLIGHT
TZOFFSETFROM:+0000
TZOFFSETTO:+0100
TZNAME:BST
DTSTART:20230326T010000
END:DAYLIGHT
BEGIN:STANDARD
TZOFFSETFROM:+0100
TZOFFSETTO:+0000
TZNAME:GMT
DTSTART:20231029T010000
END:STANDARD
END:VTIMEZONE
BEGIN:VEVENT
DTSTART;TZID="Europe/London":20230912T220000
DTEND;TZID="Europe/London":20230912T220000
DTSTAMP:20260420T190155
CREATED:20230901T151742Z
LAST-MODIFIED:20230901T151826Z
UID:1416-1694556000-1694556000@www.kasbahnightclub.com
SUMMARY:Project X Freshers House Party
DESCRIPTION:Ticket Link: https://shorturl.at/sxPQS \nDescription: \nProject X Freshers House Party | Coventry Freshers 2023 \n📍 KASBAH \nThe Project X Freshers House Party is coming to Coventry for Freshers 2023 🔥🔥. Everyone loves a House Party\, but have you ever been to one with thousands of freshers going CRAZY?! \nWe have loads of party games\, giveaways\, entertainment & most importantly…FREE PIZZA 🍕! You will NEVER experience another event like this! We pull out all the stops every single year! 💦 \nEver wanted to go to a House Party just like the one from Project X? Now is your chance…. 😈😈😈 \n🚨 WHAT TO EXPECT 🚨 \n🍕 Free Domino’s Pizza \n🥤 American Red Party Cups \n🎈 Crazy Giant Inflatables \n🍭 Free Sweets \n🎉 Exploding Confetti Cannons \n👕 T Shirt Giveaways \n🥤 Cheap Student Drinks \n🎧 Coventry’s BIGGEST DJs \nOur events always SELL OUT IN ADVANCE – It’s for this reason we recommend purchasing your freshers’ tickets early! With all of our tickets being refundable if you do not get into university\, there’s really no reason to wait ⚠️ \n  \n🔊 MUSIC POLICY 🔊 \nROOM 1: Chart / Commercial / House \nROOM 2: Hip Hop / R&B / Mainstream Afrobeat’s \nROOM 3: Drum & Bass \n⚠️ IMPORTANT INFORMATION ⚠️ \nValid 18+ Photo ID MUST be present on entry. \nMRRA \nPlease arrive by 11PM to ensure smooth entry to the venue. Our events are extremely busy\, so to minimise queuing times it is recommended to arrive as early as possible! \nDue to legal reasons\, there will be nothing we can do once ticket sales match the venue capacity. The event will be marked as SOLD OUT and no further tickets will be made available. \n  \n \n
URL:https://www.kasbahnightclub.com/event/project-x-freshers-house-party/
END:VEVENT
END:VCALENDAR