BEGIN:VCALENDAR
VERSION:2.0
PRODID:-//Kasbah Nightclub Coventry - ECPv4.9.5//NONSGML v1.0//EN
CALSCALE:GREGORIAN
METHOD:PUBLISH
X-WR-CALNAME:Kasbah Nightclub Coventry
X-ORIGINAL-URL:https://www.kasbahnightclub.com
X-WR-CALDESC:Events for Kasbah Nightclub Coventry
BEGIN:VTIMEZONE
TZID:"Europe/London"
BEGIN:DAYLIGHT
TZOFFSETFROM:+0000
TZOFFSETTO:+0100
TZNAME:BST
DTSTART:20210328T010000
END:DAYLIGHT
BEGIN:STANDARD
TZOFFSETFROM:+0100
TZOFFSETTO:+0000
TZNAME:GMT
DTSTART:20211031T010000
END:STANDARD
END:VTIMEZONE
BEGIN:VEVENT
DTSTART;TZID="Europe/London":20211023T220000
DTEND;TZID="Europe/London":20211023T220000
DTSTAMP:20260419T203023
CREATED:20211007T144206Z
LAST-MODIFIED:20211007T144206Z
UID:1041-1635026400-1635026400@www.kasbahnightclub.com
SUMMARY:PBH & JACK
DESCRIPTION:PBH & JACK are coming to Kasbah on Saturday 23rd October \nTipped by many as “ones to watch” the fast rising dance duo have DJ at some of the world’s biggest House & Dance Events. \nDoors 10pm // Admission £6 \n“This show is part of our Saturday clubnight” \n
URL:https://www.kasbahnightclub.com/event/pbh-jack-2/
END:VEVENT
END:VCALENDAR