BEGIN:VCALENDAR
VERSION:2.0
PRODID:-//Kasbah Nightclub Coventry - ECPv4.9.5//NONSGML v1.0//EN
CALSCALE:GREGORIAN
METHOD:PUBLISH
X-WR-CALNAME:Kasbah Nightclub Coventry
X-ORIGINAL-URL:https://www.kasbahnightclub.com
X-WR-CALDESC:Events for Kasbah Nightclub Coventry
BEGIN:VTIMEZONE
TZID:"Europe/London"
BEGIN:DAYLIGHT
TZOFFSETFROM:+0000
TZOFFSETTO:+0100
TZNAME:BST
DTSTART:20190331T010000
END:DAYLIGHT
BEGIN:STANDARD
TZOFFSETFROM:+0100
TZOFFSETTO:+0000
TZNAME:GMT
DTSTART:20191027T010000
END:STANDARD
END:VTIMEZONE
BEGIN:VEVENT
DTSTART;TZID="Europe/London":20191003T080000
DTEND;TZID="Europe/London":20191003T170000
DTSTAMP:20260424T133555
CREATED:20191003T115341Z
LAST-MODIFIED:20191003T115341Z
UID:727-1570089600-1570122000@www.kasbahnightclub.com
SUMMARY:Patawawa (Kinky - Room 2 show)
DESCRIPTION:Doors 10pm // 18+ \nThis show is part of our Kinky clubnight and it takes place in Room 2 (Left wing) \nPicked by NME as ‘Ones to Watch in 2018’ before their debut EP had even been released\, the Matlock band have enjoyed an incredible 18 months\, finding favour with everyone from BBC Radio DJs Huw Stephens\, Tom Robinson and Lauren Laverne to ‘Stranger’ Things star Millie Bobby Brown\, who is launching her new brand ‘Purple’ with the band providing the soundtrack. \nHaving been tipped by the likes of The Line of Best Fit\, The Guardian\, Clash and many more picking up comparisons to artists ranging from Chic to Madonna\, Two Door Cinema Club to Foals\, Patawawa have quickly defined their own sound\, honed on a series of increasingly riotous festival appearance and sold out tours of the UK. \nFIND PATAWAWA ONLINE \nwww.facebook.com/patawawa\nwww.instagram.com/patawawa\n\nwww.twitter.com/patawawa \nWHAT THE PRESS ARE SAYING \n‘… summer belongs to them!’ – NME \n‘Reminiscent of Greco Roman vagrant Roosevelt and keyboard pioneer George Duke’ – The Line Of Best Fit \n‘… joyous\, buoyant vintage pop filled with acres of charisma & effortless style’ – DIY \n‘… radiates the sound of peak-period Nile Rodgers/Bernard Edwards or early Madonna’ – The Guardian \n‘Reminiscent of those early Two Door Cinema Club anthems\, the bristling electronics mingle against sighing vocals\, tinged with melancholy’ – Clash \n‘… destined for big things’ – Metro \n \n  \nPatawawa at Kasbah: Lineups\, directions and info \n
URL:https://www.kasbahnightclub.com/event/patawawa-kinky-room-2-show/
END:VEVENT
END:VCALENDAR