BEGIN:VCALENDAR
VERSION:2.0
PRODID:-//Kasbah Nightclub Coventry - ECPv4.9.5//NONSGML v1.0//EN
CALSCALE:GREGORIAN
METHOD:PUBLISH
X-WR-CALNAME:Kasbah Nightclub Coventry
X-ORIGINAL-URL:https://www.kasbahnightclub.com
X-WR-CALDESC:Events for Kasbah Nightclub Coventry
BEGIN:VTIMEZONE
TZID:"Europe/London"
BEGIN:DAYLIGHT
TZOFFSETFROM:+0000
TZOFFSETTO:+0100
TZNAME:BST
DTSTART:20190331T010000
END:DAYLIGHT
BEGIN:STANDARD
TZOFFSETFROM:+0100
TZOFFSETTO:+0000
TZNAME:GMT
DTSTART:20191027T010000
END:STANDARD
END:VTIMEZONE
BEGIN:VEVENT
DTSTART;TZID="Europe/London":20190918T220000
DTEND;TZID="Europe/London":20190918T220000
DTSTAMP:20260424T151048
CREATED:20190822T133816Z
LAST-MODIFIED:20190822T133816Z
UID:681-1568844000-1568844000@www.kasbahnightclub.com
SUMMARY:PAINT vs FOAM PARTY
DESCRIPTION:\nBRACE YOURSELF AS OUR PAINT VS FOAM PARTY TAKES YOU ON A ROLLER COASTER JOURNEY\, AS WE UNLEASH OUR WEAPONS OF MASS DESTRUCTION\, PRODUCING UV PAINT EXPLOSIONS\, FOAM CANNONS\, CO2 VISUALS AND OTHER SPECIAL EFFECTS. \n\n\nPAINT VS FOAM PARTY IS THE EVENT OF FRESHERS\, THIS IS YOUR OPPORTUNITY TO GET MESSY IN MORE WAYS THAN ONE WITH ALL THE NEW PEOPLE YOU HAVE MET AT UNIVERSITY! \n\n\nWE DARE YOU TO CHANT ‘WE WANT PAINT\, WE WANT FOAM\, WE WANT PAINT\, WE WANT FOAM’ \n\nDoors 10pm // Tickets £6\nBuy tickets for Paint vs foam party from Skiddle \n
URL:https://www.kasbahnightclub.com/event/paint-vs-foam-party/
END:VEVENT
END:VCALENDAR