BEGIN:VCALENDAR
VERSION:2.0
PRODID:-//Kasbah Nightclub Coventry - ECPv4.9.5//NONSGML v1.0//EN
CALSCALE:GREGORIAN
METHOD:PUBLISH
X-WR-CALNAME:Kasbah Nightclub Coventry
X-ORIGINAL-URL:https://www.kasbahnightclub.com
X-WR-CALDESC:Events for Kasbah Nightclub Coventry
BEGIN:VTIMEZONE
TZID:"Europe/London"
BEGIN:DAYLIGHT
TZOFFSETFROM:+0000
TZOFFSETTO:+0100
TZNAME:BST
DTSTART:20220327T010000
END:DAYLIGHT
BEGIN:STANDARD
TZOFFSETFROM:+0100
TZOFFSETTO:+0000
TZNAME:GMT
DTSTART:20221030T010000
END:STANDARD
END:VTIMEZONE
BEGIN:VEVENT
DTSTART;TZID="Europe/London":20220914T220000
DTEND;TZID="Europe/London":20220914T220000
DTSTAMP:20260421T234215
CREATED:20220826T132442Z
LAST-MODIFIED:20220826T132442Z
UID:1206-1663192800-1663192800@www.kasbahnightclub.com
SUMMARY:Paint Party
DESCRIPTION:\nBACK BY POPULAR DEMAND\n\n\nEUROPE’S LARGEST PAINT VS FOAM PARTY \n\n\n\nSELL OUT EVENT EVERY YEAR! Do not miss out on the messiest event of Freshers  Wednesday 14th September\n\n\n\nTickets on sale now https://www.skiddle.com/e/36159122/\n\n\n\nWhite clothing encouraged \nPaint free zone available in our Globe Bar upstairs and on our balconies \n\n
URL:https://www.kasbahnightclub.com/event/paint-party-3/
END:VEVENT
END:VCALENDAR