BEGIN:VCALENDAR
VERSION:2.0
PRODID:-//Kasbah Nightclub Coventry - ECPv4.9.5//NONSGML v1.0//EN
CALSCALE:GREGORIAN
METHOD:PUBLISH
X-WR-CALNAME:Kasbah Nightclub Coventry
X-ORIGINAL-URL:https://www.kasbahnightclub.com
X-WR-CALDESC:Events for Kasbah Nightclub Coventry
BEGIN:VTIMEZONE
TZID:"Europe/London"
BEGIN:DAYLIGHT
TZOFFSETFROM:+0000
TZOFFSETTO:+0100
TZNAME:BST
DTSTART:20210328T010000
END:DAYLIGHT
BEGIN:STANDARD
TZOFFSETFROM:+0100
TZOFFSETTO:+0000
TZNAME:GMT
DTSTART:20211031T010000
END:STANDARD
END:VTIMEZONE
BEGIN:VEVENT
DTSTART;TZID="Europe/London":20210915T220000
DTEND;TZID="Europe/London":20210915T220000
DTSTAMP:20260422T172553
CREATED:20210901T115836Z
LAST-MODIFIED:20210901T115836Z
UID:1004-1631743200-1631743200@www.kasbahnightclub.com
SUMMARY:Paint Party
DESCRIPTION:\nPAINT VS FOAM PARTY IS THE EVENT OF FRESHERS! Brace yourself as we take you on a roller coaster journey\, unleashing our weapons of mass destruction\, producing UV paint explosions\, foam cannons\, Co2 visuals and other special effects. \n\n\n  \n\n\nWE DARE YOU TO CHANT “WE WANT PAINT\, WE WANT FOAM\, WE WANT PAINT\, WE WANT FOAM” \n\n\n  \n\n\n>> Come dressed in white it is recommended << \n\n\n  \n\n\nSelected Drinks £1.50 \n\n\n£6 Tickets from Skiddle \npaint party at Kasbah: Lineups\, directions and info \n\n\nDoors 10pm \n\n
URL:https://www.kasbahnightclub.com/event/paint-party-2/
END:VEVENT
END:VCALENDAR