BEGIN:VCALENDAR
VERSION:2.0
PRODID:-//Kasbah Nightclub Coventry - ECPv4.9.5//NONSGML v1.0//EN
CALSCALE:GREGORIAN
METHOD:PUBLISH
X-WR-CALNAME:Kasbah Nightclub Coventry
X-ORIGINAL-URL:https://www.kasbahnightclub.com
X-WR-CALDESC:Events for Kasbah Nightclub Coventry
BEGIN:VTIMEZONE
TZID:"Europe/London"
BEGIN:DAYLIGHT
TZOFFSETFROM:+0000
TZOFFSETTO:+0100
TZNAME:BST
DTSTART:20210328T010000
END:DAYLIGHT
BEGIN:STANDARD
TZOFFSETFROM:+0100
TZOFFSETTO:+0000
TZNAME:GMT
DTSTART:20211031T010000
END:STANDARD
END:VTIMEZONE
BEGIN:VEVENT
DTSTART;TZID="Europe/London":20211113T183000
DTEND;TZID="Europe/London":20211113T183000
DTSTAMP:20260419T135348
CREATED:20210820T200052Z
LAST-MODIFIED:20210820T200157Z
UID:1001-1636828200-1636828200@www.kasbahnightclub.com
SUMMARY:Overpass (Pre-club show)
DESCRIPTION:Doors 6:30pm // 14+ \n
URL:https://www.kasbahnightclub.com/event/overpass-pre-club-show/
END:VEVENT
END:VCALENDAR