BEGIN:VCALENDAR
VERSION:2.0
PRODID:-//Kasbah Nightclub Coventry - ECPv4.9.5//NONSGML v1.0//EN
CALSCALE:GREGORIAN
METHOD:PUBLISH
X-WR-CALNAME:Kasbah Nightclub Coventry
X-ORIGINAL-URL:https://www.kasbahnightclub.com
X-WR-CALDESC:Events for Kasbah Nightclub Coventry
BEGIN:VTIMEZONE
TZID:"Europe/London"
BEGIN:DAYLIGHT
TZOFFSETFROM:+0000
TZOFFSETTO:+0100
TZNAME:BST
DTSTART:20190331T010000
END:DAYLIGHT
BEGIN:STANDARD
TZOFFSETFROM:+0100
TZOFFSETTO:+0000
TZNAME:GMT
DTSTART:20191027T010000
END:STANDARD
END:VTIMEZONE
BEGIN:VEVENT
DTSTART;TZID="Europe/London":20190418T220000
DTEND;TZID="Europe/London":20190418T220000
DTSTAMP:20260423T214357
CREATED:20190111T232210Z
LAST-MODIFIED:20190326T183741Z
UID:365-1555624800-1555624800@www.kasbahnightclub.com
SUMMARY:OVER 25's NIGHT
DESCRIPTION:After the huge success of our last Over 25’s night at Kasbah we’re bring it back again on Thursday 18th April 2019 with the Nation’s favourite Abba Tribute  \n Easter Thursday before Good Friday  Tickets on sale now >> http://www.kasbahnightclub.com/whats-on/ \n– Strictly over 25s only\n– No ID no Entry\n– Party\, Pop\, Rnb\, Britpop\, Dance Classics from the 80s\, 90s & 00’s\n– 3 Rooms of music\n– Abba tribute band live on stage\n– 241 Cocktails\, Selected Bottles £2\n– Admission £7 \nDOORS 10PM \n \n
URL:https://www.kasbahnightclub.com/event/over-25s-night-2/
END:VEVENT
END:VCALENDAR