BEGIN:VCALENDAR
VERSION:2.0
PRODID:-//Kasbah Nightclub Coventry - ECPv4.9.5//NONSGML v1.0//EN
CALSCALE:GREGORIAN
METHOD:PUBLISH
X-WR-CALNAME:Kasbah Nightclub Coventry
X-ORIGINAL-URL:https://www.kasbahnightclub.com
X-WR-CALDESC:Events for Kasbah Nightclub Coventry
BEGIN:VTIMEZONE
TZID:"Europe/London"
BEGIN:DAYLIGHT
TZOFFSETFROM:+0000
TZOFFSETTO:+0100
TZNAME:BST
DTSTART:20190331T010000
END:DAYLIGHT
BEGIN:STANDARD
TZOFFSETFROM:+0100
TZOFFSETTO:+0000
TZNAME:GMT
DTSTART:20191027T010000
END:STANDARD
END:VTIMEZONE
BEGIN:VEVENT
DTSTART;TZID="Europe/London":20190830T220000
DTEND;TZID="Europe/London":20190830T220000
DTSTAMP:20260424T153326
CREATED:20190726T225337Z
LAST-MODIFIED:20190726T225337Z
UID:647-1567202400-1567202400@www.kasbahnightclub.com
SUMMARY:ONE WEEK STAND + A HOUSE DIVIDED (Kinky - Side room show)
DESCRIPTION:Doors 10pm // Admission £5 \nSo at the start of June we headline Coventry Pride to celebrate our fifth anniversary as a band and due to technical difficulties we had to cut our set short and the gig didn’t go quite as well as we’d hoped it would. However\, so many of you guys never gave up on us\, demanded an encore and said the nicest things to us after the gig. \nWe’ve decided to give a five year anniversary gig another shot because we don’t like doing things by halves and we know we can do a much better job with a professional soundcheck and in one of our favourite Coventry venues. With that being said\, we’ll see you lot on August 30th at Kasbah Nightclub. This time\, we’re doing it properly and we are going to make sure we put on the best show we’ve ever played for you lot. Oh yeah and we’re bringing along our guitarist\, Amber’s other band\, A House Divided along for the ride \nThis show is part of our Kinky clubnight and it takes place in our side room \n
URL:https://www.kasbahnightclub.com/event/one-week-stand-a-house-divided-kinky-side-room-show/
END:VEVENT
END:VCALENDAR