BEGIN:VCALENDAR
VERSION:2.0
PRODID:-//Kasbah Nightclub Coventry - ECPv4.9.5//NONSGML v1.0//EN
CALSCALE:GREGORIAN
METHOD:PUBLISH
X-WR-CALNAME:Kasbah Nightclub Coventry
X-ORIGINAL-URL:https://www.kasbahnightclub.com
X-WR-CALDESC:Events for Kasbah Nightclub Coventry
BEGIN:VTIMEZONE
TZID:"Europe/London"
BEGIN:DAYLIGHT
TZOFFSETFROM:+0000
TZOFFSETTO:+0100
TZNAME:BST
DTSTART:20230326T010000
END:DAYLIGHT
BEGIN:STANDARD
TZOFFSETFROM:+0100
TZOFFSETTO:+0000
TZNAME:GMT
DTSTART:20231029T010000
END:STANDARD
END:VTIMEZONE
BEGIN:VEVENT
DTSTART;TZID="Europe/London":20230415T183000
DTEND;TZID="Europe/London":20230415T220000
DTSTAMP:20260422T140153
CREATED:20221031T131845Z
LAST-MODIFIED:20221031T131845Z
UID:1243-1681583400-1681596000@www.kasbahnightclub.com
SUMMARY:Nimmo (Pre-club show)
DESCRIPTION:London-based future pop outfit NIMMO share their new single ‘You Better Mean It’.\nThe track will be their second release this year following their last single\, ‘Company‘\, a collaboration with fashion designer Charles Jeffrey. \nWith an album on the way and a UK tour announcement for 2023\, NIMMO’s ‘You Better Mean It’\nserves as a thrilling taster of what’s to come for the pair’s next creative chapter. \nMore raw and more intimate than ever\, NIMMO are baring it all. \nWith glistening muscles and tough basslines\, NIMMO have stepped into a sophisticated and \nliberated territory\, celebrating the queer body and mind in all it’s glory. \n  \n \n
URL:https://www.kasbahnightclub.com/event/nimmo-pre-club-show/
END:VEVENT
END:VCALENDAR