BEGIN:VCALENDAR
VERSION:2.0
PRODID:-//Kasbah Nightclub Coventry - ECPv4.9.5//NONSGML v1.0//EN
CALSCALE:GREGORIAN
METHOD:PUBLISH
X-WR-CALNAME:Kasbah Nightclub Coventry
X-ORIGINAL-URL:https://www.kasbahnightclub.com
X-WR-CALDESC:Events for Kasbah Nightclub Coventry
BEGIN:VTIMEZONE
TZID:"Europe/London"
BEGIN:DAYLIGHT
TZOFFSETFROM:+0000
TZOFFSETTO:+0100
TZNAME:BST
DTSTART:20220327T010000
END:DAYLIGHT
BEGIN:STANDARD
TZOFFSETFROM:+0100
TZOFFSETTO:+0000
TZNAME:GMT
DTSTART:20221030T010000
END:STANDARD
END:VTIMEZONE
BEGIN:VEVENT
DTSTART;TZID="Europe/London":20221231T210000
DTEND;TZID="Europe/London":20221231T210000
DTSTAMP:20260422T123522
CREATED:20221230T151945Z
LAST-MODIFIED:20221230T151945Z
UID:1286-1672520400-1672520400@www.kasbahnightclub.com
SUMMARY:New Year's Eve
DESCRIPTION:\n NEW YEARS EVE SPECTACULAR \n\n\n\nSATURDAY 31ST DECEMBER 2022\n\n\n\nBring 2023 in with style and say cheers to the New Year at the biggest party in the city\n\n\nWith full club decor\, co2 cannons\, confetti cannons\, confetti blasters\, giveaways and much more all night!\n\n\nThe biggest countdown every year \n\n\n\nDoors 9pm | Admission £10 | Arrive early to avoid disappointment.\nNo advance tickets\, pay on the door as normal.\n\n\n
URL:https://www.kasbahnightclub.com/event/new-years-eve-4/
END:VEVENT
END:VCALENDAR