BEGIN:VCALENDAR
VERSION:2.0
PRODID:-//Kasbah Nightclub Coventry - ECPv4.9.5//NONSGML v1.0//EN
CALSCALE:GREGORIAN
METHOD:PUBLISH
X-WR-CALNAME:Kasbah Nightclub Coventry
X-ORIGINAL-URL:https://www.kasbahnightclub.com
X-WR-CALDESC:Events for Kasbah Nightclub Coventry
BEGIN:VTIMEZONE
TZID:"Europe/London"
BEGIN:DAYLIGHT
TZOFFSETFROM:+0000
TZOFFSETTO:+0100
TZNAME:BST
DTSTART:20200329T010000
END:DAYLIGHT
BEGIN:STANDARD
TZOFFSETFROM:+0100
TZOFFSETTO:+0000
TZNAME:GMT
DTSTART:20201025T010000
END:STANDARD
END:VTIMEZONE
BEGIN:VEVENT
DTSTART;TZID="Europe/London":20200122T183000
DTEND;TZID="Europe/London":20200122T183000
DTSTAMP:20260423T093628
CREATED:20200122T152148Z
LAST-MODIFIED:20200122T152148Z
UID:805-1579717800-1579717800@www.kasbahnightclub.com
SUMMARY:NEVER APART 14+ (Pre-club show)
DESCRIPTION:Coventry 5 piece make their hometown headline debut! With support from Brass Hip Flask\, Anomaly and Easy Company . \n14+\nDoors 6:30 \nAdmission £6 \nCOME ON DOWN!! Not one you’ll want to miss🤘🏻 \n
URL:https://www.kasbahnightclub.com/event/never-apart-14-pre-club-show/
END:VEVENT
END:VCALENDAR