BEGIN:VCALENDAR
VERSION:2.0
PRODID:-//Kasbah Nightclub Coventry - ECPv4.9.5//NONSGML v1.0//EN
CALSCALE:GREGORIAN
METHOD:PUBLISH
X-WR-CALNAME:Kasbah Nightclub Coventry
X-ORIGINAL-URL:https://www.kasbahnightclub.com
X-WR-CALDESC:Events for Kasbah Nightclub Coventry
BEGIN:VTIMEZONE
TZID:"Europe/London"
BEGIN:DAYLIGHT
TZOFFSETFROM:+0000
TZOFFSETTO:+0100
TZNAME:BST
DTSTART:20220327T010000
END:DAYLIGHT
BEGIN:STANDARD
TZOFFSETFROM:+0100
TZOFFSETTO:+0000
TZNAME:GMT
DTSTART:20221030T010000
END:STANDARD
END:VTIMEZONE
BEGIN:VEVENT
DTSTART;TZID="Europe/London":20221025T220000
DTEND;TZID="Europe/London":20221025T220000
DTSTAMP:20260422T114805
CREATED:20221012T145703Z
LAST-MODIFIED:20221012T150805Z
UID:1237-1666735200-1666735200@www.kasbahnightclub.com
SUMMARY:Neon Halloween Oriental Party
DESCRIPTION:After hosting the BIGGEST International Freshers Party in KASBAH\, ACE Ent’s is back\, bringing you an epic NEON HALLOWEEN Party.\n\nEXPECT 100s of LED Batons\, glow sticks and candy pieces.\nCONFETTI and CO2 Cannons\n\nFREE ENTRY TICKET TERMS AND CONDITIONS\n\nFREE ENTRY TICKETS are very LIMITED. In order for them to be valid:\n-     You must share the party poster on Instagram stories or WeChat moments (tag ACE). This must be done BEFORE 15th OCT\n-     Enter the venue before 11.45 pm.\n-     Please screenshot your post as proof will need to be shown on entry for the ticket to be valid.\n\nAt the last event\, our VIP tickets sold out\, so buy early to avoid disappointment. VIP tickets include queue jump and access to the VIP area UPSTAIRS.\n\nFor VIP booth inquiries contact us: 07856283150\nWechat: acecoventry\nIns: Acecoventry \n  \n \n
URL:https://www.kasbahnightclub.com/event/neon-halloween-party/
END:VEVENT
END:VCALENDAR