BEGIN:VCALENDAR
VERSION:2.0
PRODID:-//Kasbah Nightclub Coventry - ECPv4.9.5//NONSGML v1.0//EN
CALSCALE:GREGORIAN
METHOD:PUBLISH
X-WR-CALNAME:Kasbah Nightclub Coventry
X-ORIGINAL-URL:https://www.kasbahnightclub.com
X-WR-CALDESC:Events for Kasbah Nightclub Coventry
BEGIN:VTIMEZONE
TZID:"Europe/London"
BEGIN:DAYLIGHT
TZOFFSETFROM:+0000
TZOFFSETTO:+0100
TZNAME:BST
DTSTART:20190331T010000
END:DAYLIGHT
BEGIN:STANDARD
TZOFFSETFROM:+0100
TZOFFSETTO:+0000
TZNAME:GMT
DTSTART:20191027T010000
END:STANDARD
END:VTIMEZONE
BEGIN:VEVENT
DTSTART;TZID="Europe/London":20190921T220000
DTEND;TZID="Europe/London":20190921T220000
DTSTAMP:20260424T151913
CREATED:20190906T143949Z
LAST-MODIFIED:20190906T145610Z
UID:693-1569103200-1569103200@www.kasbahnightclub.com
SUMMARY:NATHAN DAWE
DESCRIPTION:Famed for his genre bending take on how to move a dancefloor and one of the hottest names on the midlands scene\, Nathan Dawe takes us on a journey through hip-hop\, grime\, bassline and house on Saturday 26th January 2019. \nDoors 10pm \n  \nNathan Dawe at Kasbah: Lineups\, directions and info \n \n
URL:https://www.kasbahnightclub.com/event/nathan-dawe/
END:VEVENT
END:VCALENDAR