BEGIN:VCALENDAR
VERSION:2.0
PRODID:-//Kasbah Nightclub Coventry - ECPv4.9.5//NONSGML v1.0//EN
CALSCALE:GREGORIAN
METHOD:PUBLISH
X-WR-CALNAME:Kasbah Nightclub Coventry
X-ORIGINAL-URL:https://www.kasbahnightclub.com
X-WR-CALDESC:Events for Kasbah Nightclub Coventry
BEGIN:VTIMEZONE
TZID:"Europe/London"
BEGIN:DAYLIGHT
TZOFFSETFROM:+0000
TZOFFSETTO:+0100
TZNAME:BST
DTSTART:20190331T010000
END:DAYLIGHT
BEGIN:STANDARD
TZOFFSETFROM:+0100
TZOFFSETTO:+0000
TZNAME:GMT
DTSTART:20191027T010000
END:STANDARD
END:VTIMEZONE
BEGIN:VEVENT
DTSTART;TZID="Europe/London":20190128T220000
DTEND;TZID="Europe/London":20190128T220000
DTSTAMP:20260424T154443
CREATED:20190128T130434Z
LAST-MODIFIED:20190128T130434Z
UID:392-1548712800-1548712800@www.kasbahnightclub.com
SUMMARY:MONARCHY + FREE GALAXY (Bubbleluv - Left wing show)
DESCRIPTION:Electronic Nu-disco duo Monarchy are taking over the indie room tonight with support from Kenilworth boys Free Galaxy. Signed to Warner music Monarchy are a band shrouded in mystery with their identities kept extremely secret\nDoors 10pm // Admission £5 \nNo advance tickets \nhttps://www.youtube.com/watch?v=G-rtcXFns8Y \n
URL:https://www.kasbahnightclub.com/event/monarchy-free-galaxy-bubbleluv-left-wing-show/
END:VEVENT
END:VCALENDAR