BEGIN:VCALENDAR
VERSION:2.0
PRODID:-//Kasbah Nightclub Coventry - ECPv4.9.5//NONSGML v1.0//EN
CALSCALE:GREGORIAN
METHOD:PUBLISH
X-WR-CALNAME:Kasbah Nightclub Coventry
X-ORIGINAL-URL:https://www.kasbahnightclub.com
X-WR-CALDESC:Events for Kasbah Nightclub Coventry
BEGIN:VTIMEZONE
TZID:"Europe/London"
BEGIN:DAYLIGHT
TZOFFSETFROM:+0000
TZOFFSETTO:+0100
TZNAME:BST
DTSTART:20220327T010000
END:DAYLIGHT
BEGIN:STANDARD
TZOFFSETFROM:+0100
TZOFFSETTO:+0000
TZNAME:GMT
DTSTART:20221030T010000
END:STANDARD
END:VTIMEZONE
BEGIN:VEVENT
DTSTART;TZID="Europe/London":20221126T220000
DTEND;TZID="Europe/London":20221126T220000
DTSTAMP:20260422T122346
CREATED:20221031T152924Z
LAST-MODIFIED:20221031T152924Z
UID:1254-1669500000-1669500000@www.kasbahnightclub.com
SUMMARY:Marvin Humes
DESCRIPTION:\nCapital FM DJ Marvin Humes is coming to Coventry on Saturday 26th November 2022 \n\n\n\nThe former JLS band member\, television presenter and radio show host will be bringing his dj set to Kasbah \n\n\n\nTickets link : https://www.skiddle.com/e/36205742/\n\n\n\n
URL:https://www.kasbahnightclub.com/event/marvin-humes/
END:VEVENT
END:VCALENDAR