BEGIN:VCALENDAR
VERSION:2.0
PRODID:-//Kasbah Nightclub Coventry - ECPv4.9.5//NONSGML v1.0//EN
CALSCALE:GREGORIAN
METHOD:PUBLISH
X-WR-CALNAME:Kasbah Nightclub Coventry
X-ORIGINAL-URL:https://www.kasbahnightclub.com
X-WR-CALDESC:Events for Kasbah Nightclub Coventry
BEGIN:VTIMEZONE
TZID:"Europe/London"
BEGIN:DAYLIGHT
TZOFFSETFROM:+0000
TZOFFSETTO:+0100
TZNAME:BST
DTSTART:20190331T010000
END:DAYLIGHT
BEGIN:STANDARD
TZOFFSETFROM:+0100
TZOFFSETTO:+0000
TZNAME:GMT
DTSTART:20191027T010000
END:STANDARD
END:VTIMEZONE
BEGIN:VEVENT
DTSTART;TZID="Europe/London":20190406T220000
DTEND;TZID="Europe/London":20190406T220000
DTSTAMP:20260423T182308
CREATED:20190329T143030Z
LAST-MODIFIED:20190329T143030Z
UID:494-1554588000-1554588000@www.kasbahnightclub.com
SUMMARY:MAIDEN UNITED (Tricky Disco - Left wing show)
DESCRIPTION:With 4 studio albums and live shows across Europe Maiden uniteD are coming to Coventry on Saturday 6th April. They will be performing classic Iron Maiden songs in a re-imagined form. Acoustic re-arrangements that transform the songs into something that Iron Maiden fans would have never imagined hearing. \nFeaturing Frank Beck (Gamma Ray) and Lee Morris (Magnum/Paradise Lost) \n\nDoors 10pm // Admission £6 \nAdvance tickets from seetickets.com \n  \n
URL:https://www.kasbahnightclub.com/event/maiden-united-tricky-disco-left-wing-show/
END:VEVENT
END:VCALENDAR