BEGIN:VCALENDAR
VERSION:2.0
PRODID:-//Kasbah Nightclub Coventry - ECPv4.9.5//NONSGML v1.0//EN
CALSCALE:GREGORIAN
METHOD:PUBLISH
X-WR-CALNAME:Kasbah Nightclub Coventry
X-ORIGINAL-URL:https://www.kasbahnightclub.com
X-WR-CALDESC:Events for Kasbah Nightclub Coventry
BEGIN:VTIMEZONE
TZID:"Europe/London"
BEGIN:DAYLIGHT
TZOFFSETFROM:+0000
TZOFFSETTO:+0100
TZNAME:BST
DTSTART:20200329T010000
END:DAYLIGHT
BEGIN:STANDARD
TZOFFSETFROM:+0100
TZOFFSETTO:+0000
TZNAME:GMT
DTSTART:20201025T010000
END:STANDARD
END:VTIMEZONE
BEGIN:VEVENT
DTSTART;TZID="Europe/London":20200208T200000
DTEND;TZID="Europe/London":20200208T220000
DTSTAMP:20260423T133620
CREATED:20200114T140811Z
LAST-MODIFIED:20200114T140811Z
UID:799-1581192000-1581199200@www.kasbahnightclub.com
SUMMARY:Live Loud presents (Indie Room)
DESCRIPTION:Wilde / Serena Joy / Myriam Adams / Myles Chieshire\n18+ show\nFree Entry to Kasbah Clubnight after event with a ticket for the gig.\n£5 advance tickets from the bands. \nDoors 8pm \n
URL:https://www.kasbahnightclub.com/event/live-loud-presents-indie-room/
END:VEVENT
END:VCALENDAR