BEGIN:VCALENDAR
VERSION:2.0
PRODID:-//Kasbah Nightclub Coventry - ECPv4.9.5//NONSGML v1.0//EN
CALSCALE:GREGORIAN
METHOD:PUBLISH
X-WR-CALNAME:Kasbah Nightclub Coventry
X-ORIGINAL-URL:https://www.kasbahnightclub.com
X-WR-CALDESC:Events for Kasbah Nightclub Coventry
BEGIN:VTIMEZONE
TZID:"Europe/London"
BEGIN:DAYLIGHT
TZOFFSETFROM:+0000
TZOFFSETTO:+0100
TZNAME:BST
DTSTART:20250330T010000
END:DAYLIGHT
BEGIN:STANDARD
TZOFFSETFROM:+0100
TZOFFSETTO:+0000
TZNAME:GMT
DTSTART:20251026T010000
END:STANDARD
END:VTIMEZONE
BEGIN:VEVENT
DTSTART;TZID="Europe/London":20250329T190000
DTEND;TZID="Europe/London":20250329T190000
DTSTAMP:20260420T155215
CREATED:20250207T124739Z
LAST-MODIFIED:20250328T150020Z
UID:1656-1743274800-1743274800@www.kasbahnightclub.com
SUMMARY:Life's A Rodeo Presents: A Nashville Country Music Experience (Pre-Club show)
DESCRIPTION:\nLife’s A Rodeo Presents: A Nashville Country Music Experience in Coventry on Saturday 29th March \n\n\n\nDust off your boots and saddle up for Life’s a Rodeo\, the ultimate country music experience right here in Coventry at Kasbah! Join us for a night of toe-tapping tunes\, heartfelt ballads\, and high-energy hits performed live by our country music band. So grab your friends\, throw on your best cowboy hats and flannel\, and join us for Life’s a Rodeo — where Coventry meets Nashville!\n\n\n\nListen to the music of:\n Dolly Parton\n Luke Combs\n Morgan Wallen\n Kenny Rogers\n Zach Bryan\n John Denver\n Shania Twain\n Chris Stapleton\n Taylor Swift\n Blake Shelton\n\n\n\nTicket Link: https://fatso.ma/1fMb\n\n\nShow Times:\n\n\nDoors Open: 7:00pm\nShow Starts: 8:00pm\nShow Ends: 10:00pm\n\n\n\n FOLLOW US ON INSTAGRAM – https://www.instagram.com/life…\n FOLLOW US ON TIK TOK – https://www.tiktok.com/@lifesa\n\n\n \n
URL:https://www.kasbahnightclub.com/event/lifes-a-rodeo-presents-a-nashville-country-music-experience/
END:VEVENT
END:VCALENDAR