BEGIN:VCALENDAR
VERSION:2.0
PRODID:-//Kasbah Nightclub Coventry - ECPv4.9.5//NONSGML v1.0//EN
CALSCALE:GREGORIAN
METHOD:PUBLISH
X-WR-CALNAME:Kasbah Nightclub Coventry
X-ORIGINAL-URL:https://www.kasbahnightclub.com
X-WR-CALDESC:Events for Kasbah Nightclub Coventry
BEGIN:VTIMEZONE
TZID:"Europe/London"
BEGIN:DAYLIGHT
TZOFFSETFROM:+0000
TZOFFSETTO:+0100
TZNAME:BST
DTSTART:20190331T010000
END:DAYLIGHT
BEGIN:STANDARD
TZOFFSETFROM:+0100
TZOFFSETTO:+0000
TZNAME:GMT
DTSTART:20191027T010000
END:STANDARD
END:VTIMEZONE
BEGIN:VEVENT
DTSTART;TZID="Europe/London":20191213T183000
DTEND;TZID="Europe/London":20191213T220000
DTSTAMP:20260423T050953
CREATED:20191106T152458Z
LAST-MODIFIED:20191106T152458Z
UID:750-1576261800-1576274400@www.kasbahnightclub.com
SUMMARY:LADY BIRD (Pre-club show)
DESCRIPTION:One of the most exciting upcoming punk bands in the UK right now Lady Bird\, signed to Girl Fight Records the new label from Slaves duo\, are coming to Coventry on Friday 13th December. Doors 6:30pm\, this is a 14+ show \nAdvance tickets on sale from https://www.skiddle.com/e/13630143 \nhttps://www.youtube.com/watch?v=_dlaDOe2wEM \n
URL:https://www.kasbahnightclub.com/event/lady-bird-pre-club-show/
END:VEVENT
END:VCALENDAR