BEGIN:VCALENDAR
VERSION:2.0
PRODID:-//Kasbah Nightclub Coventry - ECPv4.9.5//NONSGML v1.0//EN
CALSCALE:GREGORIAN
METHOD:PUBLISH
X-WR-CALNAME:Kasbah Nightclub Coventry
X-ORIGINAL-URL:https://www.kasbahnightclub.com
X-WR-CALDESC:Events for Kasbah Nightclub Coventry
BEGIN:VTIMEZONE
TZID:"Europe/London"
BEGIN:DAYLIGHT
TZOFFSETFROM:+0000
TZOFFSETTO:+0100
TZNAME:BST
DTSTART:20230326T010000
END:DAYLIGHT
BEGIN:STANDARD
TZOFFSETFROM:+0100
TZOFFSETTO:+0000
TZNAME:GMT
DTSTART:20231029T010000
END:STANDARD
END:VTIMEZONE
BEGIN:VEVENT
DTSTART;TZID="Europe/London":20231020T220000
DTEND;TZID="Europe/London":20231020T230000
DTSTAMP:20260420T190150
CREATED:20230929T145511Z
LAST-MODIFIED:20230929T145742Z
UID:1421-1697839200-1697842800@www.kasbahnightclub.com
SUMMARY:Kerrang'D! (Indie Room - Clubnight show)
DESCRIPTION:The definite live tribute show to the early 90’s – 00’s Kerrang classics! Covering all your favourites Rock / Emo / Alternative / Metal Anthems! \nCovering classic songs from bands such as: My Chemical Romance – Papa Roach – Linkin Park – Green Day – Blink 182 – Wheatus – Panic! At The Disco – Fall Out Boy and loads more. \nThis show takes place in our indie room as part of the clubnight \nDoors 10pm // Admission £5 \n \n
URL:https://www.kasbahnightclub.com/event/kerrangd-indie-room-clubnight-show/
END:VEVENT
END:VCALENDAR