BEGIN:VCALENDAR
VERSION:2.0
PRODID:-//Kasbah Nightclub Coventry - ECPv4.9.5//NONSGML v1.0//EN
CALSCALE:GREGORIAN
METHOD:PUBLISH
X-WR-CALNAME:Kasbah Nightclub Coventry
X-ORIGINAL-URL:https://www.kasbahnightclub.com
X-WR-CALDESC:Events for Kasbah Nightclub Coventry
BEGIN:VTIMEZONE
TZID:"Europe/London"
BEGIN:DAYLIGHT
TZOFFSETFROM:+0000
TZOFFSETTO:+0100
TZNAME:BST
DTSTART:20190331T010000
END:DAYLIGHT
BEGIN:STANDARD
TZOFFSETFROM:+0100
TZOFFSETTO:+0000
TZNAME:GMT
DTSTART:20191027T010000
END:STANDARD
END:VTIMEZONE
BEGIN:VEVENT
DTSTART;TZID="Europe/London":20190223T220000
DTEND;TZID="Europe/London":20190223T220000
DTSTAMP:20260422T185828
CREATED:20181116T233342Z
LAST-MODIFIED:20190213T165311Z
UID:238-1550959200-1550959200@www.kasbahnightclub.com
SUMMARY:PATRICK NAZEMI (Tricky Disco)
DESCRIPTION:On Saturday 23rd February get ready for some underground flavours and overground capacity with Patrick Nazemi\, one of the most driven multi-genre DJs around\, who whips any crowd into a frenzy across the globe. \nDoors 10pm // Admission £6 \nhttps://www.youtube.com/watch?v=r3LJvKkA–4 \n
URL:https://www.kasbahnightclub.com/event/kelli-leigh-tricky-disco/
END:VEVENT
END:VCALENDAR