BEGIN:VCALENDAR
VERSION:2.0
PRODID:-//Kasbah Nightclub Coventry - ECPv4.9.5//NONSGML v1.0//EN
CALSCALE:GREGORIAN
METHOD:PUBLISH
X-WR-CALNAME:Kasbah Nightclub Coventry
X-ORIGINAL-URL:https://www.kasbahnightclub.com
X-WR-CALDESC:Events for Kasbah Nightclub Coventry
BEGIN:VTIMEZONE
TZID:"Europe/London"
BEGIN:DAYLIGHT
TZOFFSETFROM:+0000
TZOFFSETTO:+0100
TZNAME:BST
DTSTART:20200329T010000
END:DAYLIGHT
BEGIN:STANDARD
TZOFFSETFROM:+0100
TZOFFSETTO:+0000
TZNAME:GMT
DTSTART:20201025T010000
END:STANDARD
END:VTIMEZONE
BEGIN:VEVENT
DTSTART;TZID="Europe/London":20200923T220000
DTEND;TZID="Europe/London":20200923T220000
DTSTAMP:20260422T224257
CREATED:20200921T084147Z
LAST-MODIFIED:20200921T084147Z
UID:888-1600898400-1600898400@www.kasbahnightclub.com
SUMMARY:Kasbah Wednesdays
DESCRIPTION:\n  SPORTS & SOCIETY SOCIAL WEDNESDAYS \n\n\nEVERY WEDNESDAY NIGHT\n\n\nTickets for this Wednesday on sale now >> https://www.skiddle.com/e/13823206/\n\n\n\nGet in touch now for sponsorship packages from both Kasbah and \nIvy House\n\n\n\n10pm-late\nDJ on all night\n\nSocial distancing measures in place throughout the venue.\nMaximum of 6 people per table.\n\n\n\n\n\nStay alert | Control the virus | Colly on\n\n\n\nSeating will be provided where possible but it’s not guaranteed.\n\nYOU MAY BE ASKED FOR A STUDENT ID\n\n
URL:https://www.kasbahnightclub.com/event/kasbah-wednesdays/
END:VEVENT
END:VCALENDAR