BEGIN:VCALENDAR
VERSION:2.0
PRODID:-//Kasbah Nightclub Coventry - ECPv4.9.5//NONSGML v1.0//EN
CALSCALE:GREGORIAN
METHOD:PUBLISH
X-WR-CALNAME:Kasbah Nightclub Coventry
X-ORIGINAL-URL:https://www.kasbahnightclub.com
X-WR-CALDESC:Events for Kasbah Nightclub Coventry
BEGIN:VTIMEZONE
TZID:"Europe/London"
BEGIN:DAYLIGHT
TZOFFSETFROM:+0000
TZOFFSETTO:+0100
TZNAME:BST
DTSTART:20190331T010000
END:DAYLIGHT
BEGIN:STANDARD
TZOFFSETFROM:+0100
TZOFFSETTO:+0000
TZNAME:GMT
DTSTART:20191027T010000
END:STANDARD
END:VTIMEZONE
BEGIN:VEVENT
DTSTART;TZID="Europe/London":20190308T220000
DTEND;TZID="Europe/London":20190308T220000
DTSTAMP:20260422T203738
CREATED:20190220T155836Z
LAST-MODIFIED:20190220T155836Z
UID:410-1552082400-1552082400@www.kasbahnightclub.com
SUMMARY:INTERNATIONALS WOMEN'S DAY
DESCRIPTION:Who run the world? GIRLS 💅💃 \nCelebrate International Women’s Day on Friday 8th March with a BEYONCE VS LADY GAGA TRIBUTE LIVE ON STAGE 🎤💋 \n🎶 We flawless\, ladies tell ’em\, I woke up like this 🎶 \n🎶 Don’t be a drag just be a queen 🎶 \n🎶 Middle fingers up\, put them hands high 🎶 \nDoors 10pm / Admission £5 \nNo advance tickets\, everyone will be paying on the door \n
URL:https://www.kasbahnightclub.com/event/internationals-womens-day/
END:VEVENT
END:VCALENDAR