BEGIN:VCALENDAR
VERSION:2.0
PRODID:-//Kasbah Nightclub Coventry - ECPv4.9.5//NONSGML v1.0//EN
CALSCALE:GREGORIAN
METHOD:PUBLISH
X-WR-CALNAME:Kasbah Nightclub Coventry
X-ORIGINAL-URL:https://www.kasbahnightclub.com
X-WR-CALDESC:Events for Kasbah Nightclub Coventry
BEGIN:VTIMEZONE
TZID:"Europe/London"
BEGIN:DAYLIGHT
TZOFFSETFROM:+0000
TZOFFSETTO:+0100
TZNAME:BST
DTSTART:20210328T010000
END:DAYLIGHT
BEGIN:STANDARD
TZOFFSETFROM:+0100
TZOFFSETTO:+0000
TZNAME:GMT
DTSTART:20211031T010000
END:STANDARD
END:VTIMEZONE
BEGIN:VEVENT
DTSTART;TZID="Europe/London":20211022T220000
DTEND;TZID="Europe/London":20211022T220000
DTSTAMP:20260419T221723
CREATED:20211020T105834Z
LAST-MODIFIED:20211020T110003Z
UID:1053-1634940000-1634940000@www.kasbahnightclub.com
SUMMARY:I LOVE TOM'S MUM
DESCRIPTION:\nWE LOVE TOM’S MUM \n\n\n\nFree entry & queue jump if your name is Tom plus free entry\, queue jump and free drinks all night if your name is Tom and you bring your mum \n\n\n\n\n\nThis Friday 22nd October – No advance tickets\, pay on the door as normal.\n\n\n\nDoors 10pm/Admission £5\n\n\n 3 rooms of your favourite music\n J BOMBS £1 | DRINKS £1.50\n\n\n\nCoventry and Warwick’s biggest Friday night\, every week \n\n\n
URL:https://www.kasbahnightclub.com/event/i-love-toms-mum/
END:VEVENT
END:VCALENDAR