BEGIN:VCALENDAR
VERSION:2.0
PRODID:-//Kasbah Nightclub Coventry - ECPv4.9.5//NONSGML v1.0//EN
CALSCALE:GREGORIAN
METHOD:PUBLISH
X-WR-CALNAME:Kasbah Nightclub Coventry
X-ORIGINAL-URL:https://www.kasbahnightclub.com
X-WR-CALDESC:Events for Kasbah Nightclub Coventry
BEGIN:VTIMEZONE
TZID:"Europe/London"
BEGIN:DAYLIGHT
TZOFFSETFROM:+0000
TZOFFSETTO:+0100
TZNAME:BST
DTSTART:20210328T010000
END:DAYLIGHT
BEGIN:STANDARD
TZOFFSETFROM:+0100
TZOFFSETTO:+0000
TZNAME:GMT
DTSTART:20211031T010000
END:STANDARD
END:VTIMEZONE
BEGIN:VEVENT
DTSTART;TZID="Europe/London":20211002T150000
DTEND;TZID="Europe/London":20211002T220000
DTSTAMP:20260420T051201
CREATED:20210930T165238Z
LAST-MODIFIED:20210930T165238Z
UID:1024-1633186800-1633212000@www.kasbahnightclub.com
SUMMARY:Hybrid Minds (Daytime Event)
DESCRIPTION:DnB Allstars: Coventry\nSaturday 2nd October\nKasbah Nightclub\n15:00-22:00\nAfter 18 months of no raves and empty dancefloors\, DnB Allstars is proud to present you our first UK tour!\n\n https://dnballstars.co.uk/uk-signup/\n\n LINE UP \nHybrid Minds & Tempza\nBenny L\nAC13 b2b Alcemist\nGoddard\nKara\nDnB Allstars: Coventry\nSaturday 2nd October\nKasbah Nightclub\n15:00-22:00\nAfter 18 months of no raves and empty dancefloors\, DnB Allstars is proud to present you our first UK tour!\n\n https://dnballstars.co.uk/uk-signup/\n\n LINE UP \nHybrid Minds & Tempza\nBenny L\nAC13 b2b Alcemist\nGoddard\n
URL:https://www.kasbahnightclub.com/event/hybrid-minds-daytime-event/
END:VEVENT
END:VCALENDAR