BEGIN:VCALENDAR
VERSION:2.0
PRODID:-//Kasbah Nightclub Coventry - ECPv4.9.5//NONSGML v1.0//EN
CALSCALE:GREGORIAN
METHOD:PUBLISH
X-WR-CALNAME:Kasbah Nightclub Coventry
X-ORIGINAL-URL:https://www.kasbahnightclub.com
X-WR-CALDESC:Events for Kasbah Nightclub Coventry
BEGIN:VTIMEZONE
TZID:"Europe/London"
BEGIN:DAYLIGHT
TZOFFSETFROM:+0000
TZOFFSETTO:+0100
TZNAME:BST
DTSTART:20240331T010000
END:DAYLIGHT
BEGIN:STANDARD
TZOFFSETFROM:+0100
TZOFFSETTO:+0000
TZNAME:GMT
DTSTART:20241027T010000
END:STANDARD
END:VTIMEZONE
BEGIN:VEVENT
DTSTART;TZID="Europe/London":20240608T150000
DTEND;TZID="Europe/London":20240608T230000
DTSTAMP:20260420T171823
CREATED:20240509T195317Z
LAST-MODIFIED:20240509T195317Z
UID:1532-1717858800-1717887600@www.kasbahnightclub.com
SUMMARY:Hybrid Minds (Day Sessions)
DESCRIPTION:Hybrid Minds return to Kasbah 🔥 on Saturday 8th June to headline Day Sessions ⚡️ with Harriet Jaxxon & more! 💥 \nDaytime event 3pm – 11pm \nTickets on sale  ➡️ https://skiddle.com/e/38290583 \n
URL:https://www.kasbahnightclub.com/event/hybrid-minds-day-sessions/
END:VEVENT
END:VCALENDAR